BEGIN:VCALENDAR
VERSION:2.0
PRODID:-//Community Vital Signs Initiative - ECPv6.15.14//NONSGML v1.0//EN
CALSCALE:GREGORIAN
METHOD:PUBLISH
X-ORIGINAL-URL:https://communityvitalsigns.org
X-WR-CALDESC:Events for Community Vital Signs Initiative
REFRESH-INTERVAL;VALUE=DURATION:PT1H
X-Robots-Tag:noindex
X-PUBLISHED-TTL:PT1H
BEGIN:VTIMEZONE
TZID:UTC
BEGIN:STANDARD
TZOFFSETFROM:+0000
TZOFFSETTO:+0000
TZNAME:UTC
DTSTART:20180101T000000
END:STANDARD
END:VTIMEZONE
BEGIN:VEVENT
DTSTART;TZID=UTC:20190916T130000
DTEND;TZID=UTC:20190916T150000
DTSTAMP:20260423T210442
CREATED:20190227T030933Z
LAST-MODIFIED:20190916T193212Z
UID:10000317-1568638800-1568646000@communityvitalsigns.org
SUMMARY:Steering Committee Meeting
DESCRIPTION:The Steering Committee members guide the decision-making process\, lead implementation of effectives goals\, strategies\, and policies\, and advocate for the consideration for a health in all policies approach. \nMeeting Materials \n09-16-2019 SC Agenda v3 \nCE Updates 09-16-2019 \nSteering Committee Questions Hand Out \nCE Survey English 8-28-19
URL:https://communityvitalsigns.org/event/steering-committee-meeting-10/
LOCATION:DBH Admin\, 303 E. Vanderbilt Way\, San Bernardino\, CA\, 92415\, United States
CATEGORIES:Committee Meetings
GEO:34.0673527;-117.2776234
X-APPLE-STRUCTURED-LOCATION;VALUE=URI;X-ADDRESS=DBH Admin 303 E. Vanderbilt Way San Bernardino CA 92415 United States;X-APPLE-RADIUS=500;X-TITLE=303 E. Vanderbilt Way:geo:-117.2776234,34.0673527
END:VEVENT
END:VCALENDAR